BEGIN:VCALENDAR
VERSION:2.0
PRODID:-//THE INTERDISCIPLINARY CENTRE FOR CIRCULAR METALS - ECPv6.15.20//NONSGML v1.0//EN
CALSCALE:GREGORIAN
METHOD:PUBLISH
X-WR-CALNAME:THE INTERDISCIPLINARY CENTRE FOR CIRCULAR METALS
X-ORIGINAL-URL:https://www.circularmetal.co.uk
X-WR-CALDESC:Events for THE INTERDISCIPLINARY CENTRE FOR CIRCULAR METALS
REFRESH-INTERVAL;VALUE=DURATION:PT1H
X-Robots-Tag:noindex
X-PUBLISHED-TTL:PT1H
BEGIN:VTIMEZONE
TZID:Europe/London
BEGIN:DAYLIGHT
TZOFFSETFROM:+0000
TZOFFSETTO:+0100
TZNAME:BST
DTSTART:20200329T010000
END:DAYLIGHT
BEGIN:STANDARD
TZOFFSETFROM:+0100
TZOFFSETTO:+0000
TZNAME:GMT
DTSTART:20201025T010000
END:STANDARD
BEGIN:DAYLIGHT
TZOFFSETFROM:+0000
TZOFFSETTO:+0100
TZNAME:BST
DTSTART:20210328T010000
END:DAYLIGHT
BEGIN:STANDARD
TZOFFSETFROM:+0100
TZOFFSETTO:+0000
TZNAME:GMT
DTSTART:20211031T010000
END:STANDARD
BEGIN:DAYLIGHT
TZOFFSETFROM:+0000
TZOFFSETTO:+0100
TZNAME:BST
DTSTART:20220327T010000
END:DAYLIGHT
BEGIN:STANDARD
TZOFFSETFROM:+0100
TZOFFSETTO:+0000
TZNAME:GMT
DTSTART:20221030T010000
END:STANDARD
END:VTIMEZONE
BEGIN:VEVENT
DTSTART;TZID=Europe/London:20210524T100000
DTEND;TZID=Europe/London:20210527T153000
DTSTAMP:20260425T112218
CREATED:20210520T110003Z
LAST-MODIFIED:20210520T110352Z
UID:386-1621850400-1622129400@www.circularmetal.co.uk
SUMMARY:NICER Programme National Launch
DESCRIPTION:The UKRI National Interdisciplinary Circular Economy Research (NICER) Programme  officially launches! The four day event running from 24th – 27th May will introduce the five National Interdisciplinary Circular Economy Centres (24 – 26 May) and the Circular Economy Hub\, which together form the NICER Programme. On Thursday 27th May we will hear from the CE-Hub. \nIf you missed our event on the 10th May there is chance to catch up with Circular Metals  session on the 26th at 10am\, with highlights from our previous event and opportunity to debate the investigator team. Register Here: NICER Programme National Launch Registration | Whova
URL:https://www.circularmetal.co.uk/event/nicer-programme-national-launch/
LOCATION:online
ATTACH;FMTTYPE=image/jpeg:https://www.circularmetal.co.uk/wp-content/uploads/2021/05/short-CE-hub-logo.jpg
END:VEVENT
BEGIN:VEVENT
DTSTART;TZID=Europe/London:20210510T110000
DTEND;TZID=Europe/London:20210510T133000
DTSTAMP:20260425T112218
CREATED:20210428T122118Z
LAST-MODIFIED:20210505T162042Z
UID:112-1620644400-1620653400@www.circularmetal.co.uk
SUMMARY:Launch of UKRI Interdisciplinary Centre for Circular Metals
DESCRIPTION:The Centre for Circular Metals vision is to make the UK the first country to fully circulate metals by 2050. \nAbout this Event \nThe Interdisciplinary Centre for Circular Metals\, one of five centres recently funded as part of a £22.5 million government investment is hosting its official online launch. The centre is a collaboration between Brunel University London\, University College London and Warwick University; and over 30 industry partners. \nThis launch will outline the Centre’s vision and aims to make the UK the first country to fully circulate metals by 2050; as well as hearing from prominent figures in industry\, public and academia. There will also be opportunities for networking and lively panel debate sessions with guest speakers. \nMORE INFO
URL:https://www.circularmetal.co.uk/event/launch-of-ukri-interdisciplinary-centre-for-circular-metals/
ATTACH;FMTTYPE=image/jpeg:https://www.circularmetal.co.uk/wp-content/uploads/2021/04/img04.jpg
END:VEVENT
BEGIN:VEVENT
DTSTART;TZID=Europe/London:20210506T120000
DTEND;TZID=Europe/London:20210506T130000
DTSTAMP:20260425T112218
CREATED:20210428T122143Z
LAST-MODIFIED:20210504T103245Z
UID:114-1620302400-1620306000@www.circularmetal.co.uk
SUMMARY:Steeling for a sustainable future: How could the UK steel industry compete through supply chain?
DESCRIPTION:Steeling for a sustainable future: How could the UK steel industry compete through supply chain? \n12:00-13:00 Thursday 6th May 2021 \nAbout this Event \nWe are pleased to announce the launch of the report ‘Steeling for a sustainable future: How could the UK steel industry compete through supply chain’. The report is a collaboration between Supply Chain Research Group (SCRG)\, Advanced Steel Research Centre (ASRC)\, WMG at the University of Warwick and industrial partners. \nMORE INFO
URL:https://www.circularmetal.co.uk/event/steeling-for-a-sustainable-future-how-could-the-uk-steel-industry-compete-through-supply-chain/
ATTACH;FMTTYPE=image/jpeg:https://www.circularmetal.co.uk/wp-content/uploads/2021/04/img04b.jpg
END:VEVENT
END:VCALENDAR